BEGIN:VCALENDAR
VERSION:2.0
PRODID:Events Booking
BEGIN:VEVENT
UID:69ea42a35f4a3
SUMMARY:Meeting Park OASIS Open House
DESCRIPTION:Hei naapuri! Olemme avanneet Ruoholahteen uuden Meeting Park OA
 SIS kokous-\, koulutus- ja tapahtumakeskuksen\, jonka 45 kokoustilaa sekä
  tapahtumatila Atriumia esittelisimme mielellämme sinulle. 6000 neliön t
 iloissamme onnistuvat monipuolisesti erilaiset tilaisuudet kuten kokoukset
 \, koulutukset\, seminaarit\, konferenssit\, messut\, illalliset\, juhlat\
 , gaalat\, tyhypäivät\, kick-offit – vain taivas on rajana.
 Järjest
 ämme keskiviikkona 25.1.2023 Open house aamiaistilaisuuden\, jonka aikana
  pääset tutustumaan uusiin tiloihimme. Voit saapua paikalle sinulle parh
 aiten sopivana aikana klo 8–11 välillä. Aamun aikana tarjolla myös he
 rkullista pientä purtavaa. Odotamme innolla tapaavamme sinut! Ennakkoilmo
 ittautuminen!
LOCATION:Itämerenkatu 14\, 00180 Helsinki\, Suomi
DTSTART:20230125T060000Z
DTEND:20230125T090000Z
DTSTAMP:20260423T190243Z
ORGANIZER;CN=Meeting Park Helsinki:MAILTO:helsinki@meetingpark.fi
GEO:60.162884;24.914681
X-APPLE-STRUCTURED-LOCATION;VALUE=URI;X-ADDRESS=Itämerenkatu 14\, 00180 He
 lsinki\, Suomi;X-APPLE-RADIUS=72;X-TITLE=Meeting Park OASIS:60.162884;24.9
 14681
END:VEVENT
END:VCALENDAR